BEGIN:VCALENDAR
VERSION:2.0
PRODID:-//Scouts South Marches - ECPv6.15.20//NONSGML v1.0//EN
CALSCALE:GREGORIAN
METHOD:PUBLISH
X-WR-CALNAME:Scouts South Marches
X-ORIGINAL-URL:https://hfdscouts.org.uk
X-WR-CALDESC:Events for Scouts South Marches
REFRESH-INTERVAL;VALUE=DURATION:PT1H
X-Robots-Tag:noindex
X-PUBLISHED-TTL:PT1H
BEGIN:VTIMEZONE
TZID:Europe/London
BEGIN:DAYLIGHT
TZOFFSETFROM:+0000
TZOFFSETTO:+0100
TZNAME:BST
DTSTART:20240331T010000
END:DAYLIGHT
BEGIN:STANDARD
TZOFFSETFROM:+0100
TZOFFSETTO:+0000
TZNAME:GMT
DTSTART:20241027T010000
END:STANDARD
BEGIN:DAYLIGHT
TZOFFSETFROM:+0000
TZOFFSETTO:+0100
TZNAME:BST
DTSTART:20250330T010000
END:DAYLIGHT
BEGIN:STANDARD
TZOFFSETFROM:+0100
TZOFFSETTO:+0000
TZNAME:GMT
DTSTART:20251026T010000
END:STANDARD
BEGIN:DAYLIGHT
TZOFFSETFROM:+0000
TZOFFSETTO:+0100
TZNAME:BST
DTSTART:20260329T010000
END:DAYLIGHT
BEGIN:STANDARD
TZOFFSETFROM:+0100
TZOFFSETTO:+0000
TZNAME:GMT
DTSTART:20261025T010000
END:STANDARD
END:VTIMEZONE
BEGIN:VEVENT
DTSTART;VALUE=DATE:20250510
DTEND;VALUE=DATE:20250511
DTSTAMP:20260425T173436
CREATED:20250111T101226Z
LAST-MODIFIED:20250111T101304Z
UID:578-1746835200-1746921599@hfdscouts.org.uk
SUMMARY:District Scout Cluedo
DESCRIPTION:
URL:https://hfdscouts.org.uk/event/district-scout-cluedo-event
LOCATION:Salvation Army\, 10 Canonmoor Street\, Hereford\, Herefordshire\, HR4 9JJ\, United Kingdom
ORGANIZER;CN="Fletch":MAILTO:lee.fletcher@hfdscouts.org.uk
END:VEVENT
END:VCALENDAR