BEGIN:VCALENDAR
VERSION:2.0
PRODID:-//Scouts South Marches - ECPv6.15.20//NONSGML v1.0//EN
CALSCALE:GREGORIAN
METHOD:PUBLISH
X-ORIGINAL-URL:https://hfdscouts.org.uk
X-WR-CALDESC:Events for Scouts South Marches
REFRESH-INTERVAL;VALUE=DURATION:PT1H
X-Robots-Tag:noindex
X-PUBLISHED-TTL:PT1H
BEGIN:VTIMEZONE
TZID:Europe/London
BEGIN:DAYLIGHT
TZOFFSETFROM:+0000
TZOFFSETTO:+0100
TZNAME:BST
DTSTART:20240331T010000
END:DAYLIGHT
BEGIN:STANDARD
TZOFFSETFROM:+0100
TZOFFSETTO:+0000
TZNAME:GMT
DTSTART:20241027T010000
END:STANDARD
BEGIN:DAYLIGHT
TZOFFSETFROM:+0000
TZOFFSETTO:+0100
TZNAME:BST
DTSTART:20250330T010000
END:DAYLIGHT
BEGIN:STANDARD
TZOFFSETFROM:+0100
TZOFFSETTO:+0000
TZNAME:GMT
DTSTART:20251026T010000
END:STANDARD
BEGIN:DAYLIGHT
TZOFFSETFROM:+0000
TZOFFSETTO:+0100
TZNAME:BST
DTSTART:20260329T010000
END:DAYLIGHT
BEGIN:STANDARD
TZOFFSETFROM:+0100
TZOFFSETTO:+0000
TZNAME:GMT
DTSTART:20261025T010000
END:STANDARD
END:VTIMEZONE
BEGIN:VEVENT
DTSTART;VALUE=DATE:20250705
DTEND;VALUE=DATE:20250706
DTSTAMP:20260425T150509
CREATED:20250111T094251Z
LAST-MODIFIED:20250111T094251Z
UID:565-1751673600-1751759999@hfdscouts.org.uk
SUMMARY:First Response Training
DESCRIPTION:
URL:https://hfdscouts.org.uk/event/first-response-training-2
LOCATION:Scouts Corner\, Scouts Corner\, Hereford\, Herefordshire\, HR1 2RX\, United Kingdom
ORGANIZER;CN="Rich Frost":MAILTO:ltm@hfdscouts.org.uk
END:VEVENT
END:VCALENDAR